BEGIN:VCALENDAR
VERSION:2.0
PRODID:-//St. Albans WV Parks &amp; Recreation Dept. - ECPv6.15.17.1//NONSGML v1.0//EN
CALSCALE:GREGORIAN
METHOD:PUBLISH
X-WR-CALNAME:St. Albans WV Parks &amp; Recreation Dept.
X-ORIGINAL-URL:https://www.saparkswv.com
X-WR-CALDESC:Events for St. Albans WV Parks &amp; Recreation Dept.
REFRESH-INTERVAL;VALUE=DURATION:PT1H
X-Robots-Tag:noindex
X-PUBLISHED-TTL:PT1H
BEGIN:VTIMEZONE
TZID:America/New_York
BEGIN:DAYLIGHT
TZOFFSETFROM:-0500
TZOFFSETTO:-0400
TZNAME:EDT
DTSTART:20250309T070000
END:DAYLIGHT
BEGIN:STANDARD
TZOFFSETFROM:-0400
TZOFFSETTO:-0500
TZNAME:EST
DTSTART:20251102T060000
END:STANDARD
BEGIN:DAYLIGHT
TZOFFSETFROM:-0500
TZOFFSETTO:-0400
TZNAME:EDT
DTSTART:20260308T070000
END:DAYLIGHT
BEGIN:STANDARD
TZOFFSETFROM:-0400
TZOFFSETTO:-0500
TZNAME:EST
DTSTART:20261101T060000
END:STANDARD
BEGIN:DAYLIGHT
TZOFFSETFROM:-0500
TZOFFSETTO:-0400
TZNAME:EDT
DTSTART:20270314T070000
END:DAYLIGHT
BEGIN:STANDARD
TZOFFSETFROM:-0400
TZOFFSETTO:-0500
TZNAME:EST
DTSTART:20271107T060000
END:STANDARD
END:VTIMEZONE
BEGIN:VEVENT
DTSTART;TZID=America/New_York:20260411T090000
DTEND;TZID=America/New_York:20260411T130000
DTSTAMP:20260421T150334
CREATED:20260315T130042Z
LAST-MODIFIED:20260317T143555Z
UID:8315-1775898000-1775912400@www.saparkswv.com
SUMMARY:12th Annual Take a Walk on the Wild Side Nature Hike
DESCRIPTION:Date: Saturday\, April 11\, 2025\nTime: 9:00 a.m. – 1 pm\nLocation: St. Albans City Park Nature Trail and lower park area\nAdmission: FREE (Donations appreciated) \nSpend a spring morning in the park and learn about the natural world that makes West Virginia wild and wonderful. The St. Albans Parks and Recreation Department presents the 12th Annual Walk on the Wild Side Nature Hikes on Saturday\, April 11\, 2026 from 9:00 a.m. to 1:00 p.m. at the St. Albans City Park Nature Trail\, lower park area\, and pool parking. This is a free community event\, and all ages are welcome. Participants must register to win door prizes. \nThis year’s theme is Nature’s Wonders. The event focuses on West Virginia flora\, fauna\, environment\, weather\, and Appalachian culture. The goal is simple: bring together the best parts of the past eleven years and give families a fun way to learn outdoors. \nAlong the trail\, presenters share information and hands-on activities about pollinators\, birds\, mammals\, insects\, wildflowers\, mushrooms\, forestry\, hydrology\, and conservation. Expect self-guided hikes with expert leaders available to share stories and answer questions. \nFeatured experience: Wings of Wonder – WV Birds of Prey (Three Rivers Avian Center). \nFamilies can also enjoy crafts and activities for children and adults\, door prizes\, and take-home items such as tree seedlings and flower or vegetable seeds while supplies last. Food and beverages will be available on-site. Commemorative Blenko glass suncatchers and tee shirts will be available for purchase. \nThis event relies on grants\, donations\, and community support to offset costs. Donations received during the event help fund future Walk on the Wild Side events. The event is held rain or shine\, with expected attendance of 200 to 300 participants. \nFor full details\, visit St. Albans Parks & Recreation or call 304-722-4625. Follow us on Facebook at St. Albans WV City Park “Take A Walk on the Wild Side” Nature Hikes for updates.
URL:https://www.saparkswv.com/event/take-a-walk-on-the-wild-side-nature-hike/
LOCATION:St. Albans City Park\, 931 Observatory Drive\, St. Albans\, WV\, 25177\, United States
CATEGORIES:Community,Education,Family Friendly,Kid-Friendly
ATTACH;FMTTYPE=image/jpeg:https://www.saparkswv.com/wp-content/uploads/2022/01/272957134_4792949854115701_5463081674412672653_n.jpg
ORGANIZER;CN="St. Albans Parks & Recreation Department":MAILTO:hello@saparkswv.com
GEO:38.3684907;-81.8130024
X-APPLE-STRUCTURED-LOCATION;VALUE=URI;X-ADDRESS=St. Albans City Park 931 Observatory Drive St. Albans WV 25177 United States;X-APPLE-RADIUS=500;X-TITLE=931 Observatory Drive:geo:-81.8130024,38.3684907
END:VEVENT
END:VCALENDAR