BEGIN:VCALENDAR
VERSION:2.0
PRODID:-//St. Albans WV Parks &amp; Recreation Dept. - ECPv6.15.17.1//NONSGML v1.0//EN
CALSCALE:GREGORIAN
METHOD:PUBLISH
X-WR-CALNAME:St. Albans WV Parks &amp; Recreation Dept.
X-ORIGINAL-URL:https://www.saparkswv.com
X-WR-CALDESC:Events for St. Albans WV Parks &amp; Recreation Dept.
REFRESH-INTERVAL;VALUE=DURATION:PT1H
X-Robots-Tag:noindex
X-PUBLISHED-TTL:PT1H
BEGIN:VTIMEZONE
TZID:America/New_York
BEGIN:DAYLIGHT
TZOFFSETFROM:-0500
TZOFFSETTO:-0400
TZNAME:EDT
DTSTART:20250309T070000
END:DAYLIGHT
BEGIN:STANDARD
TZOFFSETFROM:-0400
TZOFFSETTO:-0500
TZNAME:EST
DTSTART:20251102T060000
END:STANDARD
BEGIN:DAYLIGHT
TZOFFSETFROM:-0500
TZOFFSETTO:-0400
TZNAME:EDT
DTSTART:20260308T070000
END:DAYLIGHT
BEGIN:STANDARD
TZOFFSETFROM:-0400
TZOFFSETTO:-0500
TZNAME:EST
DTSTART:20261101T060000
END:STANDARD
BEGIN:DAYLIGHT
TZOFFSETFROM:-0500
TZOFFSETTO:-0400
TZNAME:EDT
DTSTART:20270314T070000
END:DAYLIGHT
BEGIN:STANDARD
TZOFFSETFROM:-0400
TZOFFSETTO:-0500
TZNAME:EST
DTSTART:20271107T060000
END:STANDARD
END:VTIMEZONE
BEGIN:VEVENT
DTSTART;TZID=America/New_York:20260313T190000
DTEND;TZID=America/New_York:20260313T203000
DTSTAMP:20260418T114223
CREATED:20260202T123801Z
LAST-MODIFIED:20260227T003827Z
UID:9588-1773428400-1773433800@www.saparkswv.com
SUMMARY:St. Patrick’s Party for Kids (Grades K-5)! - Friday\, March 13
DESCRIPTION:St. Patrick’s Party – Ages K–5\nFriday\, March 13\, 2026 | 7:00 PM – 8:30 PMFormer McKinley Middle School – Kanawha Terrace\, St. Albans\, WV \nThe St. Albans Parks & Recreation Department is hosting its annual St. Patrick’s Party for Grades K–5 on Friday\, March 13\, 2026. \nThis family-friendly event is designed just for elementary-aged students and includes music\, games\, prizes\, and food. Kids will enjoy a safe and exciting evening celebrating St. Patrick’s Day with their friends. \nThanks to our event sponsors\, Bammy’s Chili Dogs and Marco’s Pizza\, food will be provided while supplies last. \nStudents are encouraged to wear green and come ready for a fun night of celebration.
URL:https://www.saparkswv.com/event/st-patricks-day-party/
LOCATION:Former McKinley Middle School\, Kanawha Terrace\, St. Albans\, 25177\, United States
CATEGORIES:Community,Family Friendly,Kid-Friendly
ATTACH;FMTTYPE=image/webp:https://www.saparkswv.com/wp-content/uploads/2025/03/St_Patrcks-Day-Party-2026-02.webp
ORGANIZER;CN="St. Albans Parks & Recreation Department":MAILTO:hello@saparkswv.com
END:VEVENT
END:VCALENDAR