BEGIN:VCALENDAR
VERSION:2.0
PRODID:-//St. Albans WV Parks &amp; Recreation Dept. - ECPv6.15.17.1//NONSGML v1.0//EN
CALSCALE:GREGORIAN
METHOD:PUBLISH
X-WR-CALNAME:St. Albans WV Parks &amp; Recreation Dept.
X-ORIGINAL-URL:https://www.saparkswv.com
X-WR-CALDESC:Events for St. Albans WV Parks &amp; Recreation Dept.
REFRESH-INTERVAL;VALUE=DURATION:PT1H
X-Robots-Tag:noindex
X-PUBLISHED-TTL:PT1H
BEGIN:VTIMEZONE
TZID:America/New_York
BEGIN:DAYLIGHT
TZOFFSETFROM:-0500
TZOFFSETTO:-0400
TZNAME:EDT
DTSTART:20210314T070000
END:DAYLIGHT
BEGIN:STANDARD
TZOFFSETFROM:-0400
TZOFFSETTO:-0500
TZNAME:EST
DTSTART:20211107T060000
END:STANDARD
BEGIN:DAYLIGHT
TZOFFSETFROM:-0500
TZOFFSETTO:-0400
TZNAME:EDT
DTSTART:20220313T070000
END:DAYLIGHT
BEGIN:STANDARD
TZOFFSETFROM:-0400
TZOFFSETTO:-0500
TZNAME:EST
DTSTART:20221106T060000
END:STANDARD
BEGIN:DAYLIGHT
TZOFFSETFROM:-0500
TZOFFSETTO:-0400
TZNAME:EDT
DTSTART:20230312T070000
END:DAYLIGHT
BEGIN:STANDARD
TZOFFSETFROM:-0400
TZOFFSETTO:-0500
TZNAME:EST
DTSTART:20231105T060000
END:STANDARD
END:VTIMEZONE
BEGIN:VEVENT
DTSTART;TZID=America/New_York:20221122T180000
DTEND;TZID=America/New_York:20221122T200000
DTSTAMP:20260420T102427
CREATED:20221106T095640Z
LAST-MODIFIED:20221107T021500Z
UID:9384-1669140000-1669147200@www.saparkswv.com
SUMMARY:St. Albans Festival of Lights Walking Tours
DESCRIPTION:Join us on Nov. 22 from 6 pm – 8 pm for a special preview of the 2022 St. Albans Festival of Lights! Our self-paced walking tour night is open to foot traffic only\, and your chance to see an up-close\, intimate view of the many details that go into our hand-made Christmas light displays. \nFestival-goers will begin their walking tour from St. Albans High School on Kanawha Terrace\, continuing up the hill to St. Albans City Park and back again. This pet-friendly event is free and open to the public. We ask that visitors keep their pets leashed at all times. \nSanta will be on-hand waving at Festival goers as they crest the first hill near the park office. \nThe 34th Annual St. Albans Festival of Lights is considered one of West Virginia’s Longest Running Christmas & Holiday Light Displays. We’re excited to be a part of your holiday tradition every year\, and this event is the perfect opportunity to get a sneak peek of what’s in store for next year. \nThere is no charge to walk through the 34th Annual St. Albans Festival of Lights. Although this event is free and open to the public\, we accept monetary and canned food donations. All monetary donations go towards the operation of the event\, while food collected goes towards helping our local food banks. \n2022 Festival of Lights Schedule\nNov. 22 – Walking Tours 6 pm – 8 pm (Foot Traffic Only)\nNov. 23 – Free Hayrides – 6 pm – 8 pm\nNov. 25 – Dec. 23 – Vehicle Traffic Only – Nightly 6 pm – 9 pm\nClosed Dec. 24 & 25\nDec. 26 – Final Night \nWe hope to see you at the 34th Annual St. Albans Festival of Lights. \nFor More Information about the Walk Through Event at the St. Albans Festival of Lights\, contact our office at (304) 722-4625 or the Festival of Lights website at https://salights.com/.
URL:https://www.saparkswv.com/event/st-albans-festival-of-lights-walking-tours/
LOCATION:St. Albans City Park\, 931 Observatory Drive\, St. Albans\, WV\, 25177\, United States
CATEGORIES:Community,Family Friendly,Kid-Friendly
ATTACH;FMTTYPE=image/jpeg:https://www.saparkswv.com/wp-content/uploads/2022/11/st-albans-festival-of-lights-walking-tours-2022-web.jpg
ORGANIZER;CN="St. Albans Parks & Recreation Department":MAILTO:hello@saparkswv.com
GEO:38.3684907;-81.8130024
X-APPLE-STRUCTURED-LOCATION;VALUE=URI;X-ADDRESS=St. Albans City Park 931 Observatory Drive St. Albans WV 25177 United States;X-APPLE-RADIUS=500;X-TITLE=931 Observatory Drive:geo:-81.8130024,38.3684907
END:VEVENT
END:VCALENDAR