BEGIN:VCALENDAR
VERSION:2.0
PRODID:-//St. Albans WV Parks &amp; Recreation Dept. - ECPv6.15.17.1//NONSGML v1.0//EN
CALSCALE:GREGORIAN
METHOD:PUBLISH
X-WR-CALNAME:St. Albans WV Parks &amp; Recreation Dept.
X-ORIGINAL-URL:https://www.saparkswv.com
X-WR-CALDESC:Events for St. Albans WV Parks &amp; Recreation Dept.
REFRESH-INTERVAL;VALUE=DURATION:PT1H
X-Robots-Tag:noindex
X-PUBLISHED-TTL:PT1H
BEGIN:VTIMEZONE
TZID:America/New_York
BEGIN:DAYLIGHT
TZOFFSETFROM:-0500
TZOFFSETTO:-0400
TZNAME:EDT
DTSTART:20250309T070000
END:DAYLIGHT
BEGIN:STANDARD
TZOFFSETFROM:-0400
TZOFFSETTO:-0500
TZNAME:EST
DTSTART:20251102T060000
END:STANDARD
BEGIN:DAYLIGHT
TZOFFSETFROM:-0500
TZOFFSETTO:-0400
TZNAME:EDT
DTSTART:20260308T070000
END:DAYLIGHT
BEGIN:STANDARD
TZOFFSETFROM:-0400
TZOFFSETTO:-0500
TZNAME:EST
DTSTART:20261101T060000
END:STANDARD
BEGIN:DAYLIGHT
TZOFFSETFROM:-0500
TZOFFSETTO:-0400
TZNAME:EDT
DTSTART:20270314T070000
END:DAYLIGHT
BEGIN:STANDARD
TZOFFSETFROM:-0400
TZOFFSETTO:-0500
TZNAME:EST
DTSTART:20271107T060000
END:STANDARD
END:VTIMEZONE
BEGIN:VEVENT
DTSTART;TZID=America/New_York:20260508T173000
DTEND;TZID=America/New_York:20260508T200000
DTSTAMP:20260421T112052
CREATED:20260421T114556Z
LAST-MODIFIED:20260421T123032Z
UID:10485-1778261400-1778270400@www.saparkswv.com
SUMMARY:McKinley Rec Center Ribbon Cutting / Open House
DESCRIPTION:The City of St. Albans Parks & Recreation Department\, in partnership with the St. Albans Area Chamber of Commerce\, invites you to the McKinley Rec Center Ribbon Cutting & Open House on Friday\, May 8\, 2026\, at the former McKinley Middle School\, 3000 Kanawha Terrace\, St. Albans\, WV. \nEvent Schedule:\n5:30 PM – Open House opens to the public\n6:00 PM – Ribbon Cutting Ceremony\n6:30 PM – Fun\, Family Activities with games\, face painting\, inflatables\, and refreshments. \nHow can we celebrate this exciting moment and the new recreation space in St. Albans?
URL:https://www.saparkswv.com/event/mckinley-rec-center-ribbon-cutting-open-house/
LOCATION:Former McKinley Middle School\, Kanawha Terrace\, St. Albans\, 25177\, United States
CATEGORIES:Community,Family Friendly,Kid-Friendly
ATTACH;FMTTYPE=image/jpeg:https://www.saparkswv.com/wp-content/uploads/2026/04/mckinley-rec-center-ribbon-cutting-open-house.jpg
ORGANIZER;CN="St. Albans Parks & Recreation Department":MAILTO:hello@saparkswv.com
END:VEVENT
END:VCALENDAR